BEGIN:VCALENDAR
VERSION:2.0
PRODID:-//The Kaiapoi Golf Club - ECPv5.2.1//NONSGML v1.0//EN
CALSCALE:GREGORIAN
METHOD:PUBLISH
X-WR-CALNAME:The Kaiapoi Golf Club
X-ORIGINAL-URL:https://kaiapoigolfclub.deegeedee.com
X-WR-CALDESC:Events for The Kaiapoi Golf Club
BEGIN:VTIMEZONE
TZID:Pacific/Auckland
BEGIN:STANDARD
TZOFFSETFROM:+1300
TZOFFSETTO:+1200
TZNAME:NZST
DTSTART:20270403T140000
END:STANDARD
BEGIN:DAYLIGHT
TZOFFSETFROM:+1200
TZOFFSETTO:+1300
TZNAME:NZDT
DTSTART:20270925T140000
END:DAYLIGHT
BEGIN:STANDARD
TZOFFSETFROM:+1300
TZOFFSETTO:+1200
TZNAME:NZST
DTSTART:20280401T140000
END:STANDARD
BEGIN:DAYLIGHT
TZOFFSETFROM:+1200
TZOFFSETTO:+1300
TZNAME:NZDT
DTSTART:20280923T140000
END:DAYLIGHT
END:VTIMEZONE
BEGIN:VEVENT
DTSTART;TZID=Pacific/Auckland:20280420T090000
DTEND;TZID=Pacific/Auckland:20280420T130000
DTSTAMP:20260421T235541
CREATED:20200929T093011Z
LAST-MODIFIED:20200929T093011Z
UID:84983-1839834000-1839848400@kaiapoigolfclub.deegeedee.com
SUMMARY:Thursday Club Shotgun Start
DESCRIPTION:
URL:https://kaiapoigolfclub.deegeedee.com/event/thursday-club-shotgun-start-6/2028-04-20/
LOCATION:Kaiapoi Golf Club\, 373 Williams St\, Kaiapoi\, 7630\, New Zealand
END:VEVENT
BEGIN:VEVENT
DTSTART;TZID=Pacific/Auckland:20280413T090000
DTEND;TZID=Pacific/Auckland:20280413T130000
DTSTAMP:20260421T235541
CREATED:20200929T093011Z
LAST-MODIFIED:20200929T093011Z
UID:84982-1839229200-1839243600@kaiapoigolfclub.deegeedee.com
SUMMARY:Thursday Club Shotgun Start
DESCRIPTION:
URL:https://kaiapoigolfclub.deegeedee.com/event/thursday-club-shotgun-start-6/2028-04-13/
LOCATION:Kaiapoi Golf Club\, 373 Williams St\, Kaiapoi\, 7630\, New Zealand
END:VEVENT
BEGIN:VEVENT
DTSTART;TZID=Pacific/Auckland:20280406T090000
DTEND;TZID=Pacific/Auckland:20280406T130000
DTSTAMP:20260421T235541
CREATED:20200929T093011Z
LAST-MODIFIED:20200929T093011Z
UID:84981-1838624400-1838638800@kaiapoigolfclub.deegeedee.com
SUMMARY:Thursday Club Shotgun Start
DESCRIPTION:
URL:https://kaiapoigolfclub.deegeedee.com/event/thursday-club-shotgun-start-6/2028-04-06/
LOCATION:Kaiapoi Golf Club\, 373 Williams St\, Kaiapoi\, 7630\, New Zealand
END:VEVENT
BEGIN:VEVENT
DTSTART;TZID=Pacific/Auckland:20280330T090000
DTEND;TZID=Pacific/Auckland:20280330T130000
DTSTAMP:20260421T235541
CREATED:20200929T093011Z
LAST-MODIFIED:20200929T093011Z
UID:84980-1838019600-1838034000@kaiapoigolfclub.deegeedee.com
SUMMARY:Thursday Club Shotgun Start
DESCRIPTION:
URL:https://kaiapoigolfclub.deegeedee.com/event/thursday-club-shotgun-start-6/2028-03-30/
LOCATION:Kaiapoi Golf Club\, 373 Williams St\, Kaiapoi\, 7630\, New Zealand
END:VEVENT
BEGIN:VEVENT
DTSTART;TZID=Pacific/Auckland:20280323T090000
DTEND;TZID=Pacific/Auckland:20280323T130000
DTSTAMP:20260421T235541
CREATED:20200929T093011Z
LAST-MODIFIED:20200929T093011Z
UID:84979-1837414800-1837429200@kaiapoigolfclub.deegeedee.com
SUMMARY:Thursday Club Shotgun Start
DESCRIPTION:
URL:https://kaiapoigolfclub.deegeedee.com/event/thursday-club-shotgun-start-6/2028-03-23/
LOCATION:Kaiapoi Golf Club\, 373 Williams St\, Kaiapoi\, 7630\, New Zealand
END:VEVENT
BEGIN:VEVENT
DTSTART;TZID=Pacific/Auckland:20280316T090000
DTEND;TZID=Pacific/Auckland:20280316T130000
DTSTAMP:20260421T235541
CREATED:20200929T093011Z
LAST-MODIFIED:20200929T093011Z
UID:84978-1836810000-1836824400@kaiapoigolfclub.deegeedee.com
SUMMARY:Thursday Club Shotgun Start
DESCRIPTION:
URL:https://kaiapoigolfclub.deegeedee.com/event/thursday-club-shotgun-start-6/2028-03-16/
LOCATION:Kaiapoi Golf Club\, 373 Williams St\, Kaiapoi\, 7630\, New Zealand
END:VEVENT
BEGIN:VEVENT
DTSTART;TZID=Pacific/Auckland:20280309T090000
DTEND;TZID=Pacific/Auckland:20280309T130000
DTSTAMP:20260421T235541
CREATED:20200929T093011Z
LAST-MODIFIED:20200929T093011Z
UID:84977-1836205200-1836219600@kaiapoigolfclub.deegeedee.com
SUMMARY:Thursday Club Shotgun Start
DESCRIPTION:
URL:https://kaiapoigolfclub.deegeedee.com/event/thursday-club-shotgun-start-6/2028-03-09/
LOCATION:Kaiapoi Golf Club\, 373 Williams St\, Kaiapoi\, 7630\, New Zealand
END:VEVENT
BEGIN:VEVENT
DTSTART;TZID=Pacific/Auckland:20280302T090000
DTEND;TZID=Pacific/Auckland:20280302T130000
DTSTAMP:20260421T235541
CREATED:20200929T093011Z
LAST-MODIFIED:20200929T093011Z
UID:84976-1835600400-1835614800@kaiapoigolfclub.deegeedee.com
SUMMARY:Thursday Club Shotgun Start
DESCRIPTION:
URL:https://kaiapoigolfclub.deegeedee.com/event/thursday-club-shotgun-start-6/2028-03-02/
LOCATION:Kaiapoi Golf Club\, 373 Williams St\, Kaiapoi\, 7630\, New Zealand
END:VEVENT
BEGIN:VEVENT
DTSTART;TZID=Pacific/Auckland:20280224T090000
DTEND;TZID=Pacific/Auckland:20280224T130000
DTSTAMP:20260421T235541
CREATED:20200929T093011Z
LAST-MODIFIED:20200929T093011Z
UID:84975-1834995600-1835010000@kaiapoigolfclub.deegeedee.com
SUMMARY:Thursday Club Shotgun Start
DESCRIPTION:
URL:https://kaiapoigolfclub.deegeedee.com/event/thursday-club-shotgun-start-6/2028-02-24/
LOCATION:Kaiapoi Golf Club\, 373 Williams St\, Kaiapoi\, 7630\, New Zealand
END:VEVENT
BEGIN:VEVENT
DTSTART;TZID=Pacific/Auckland:20280217T090000
DTEND;TZID=Pacific/Auckland:20280217T130000
DTSTAMP:20260421T235541
CREATED:20200929T093011Z
LAST-MODIFIED:20200929T093011Z
UID:84974-1834390800-1834405200@kaiapoigolfclub.deegeedee.com
SUMMARY:Thursday Club Shotgun Start
DESCRIPTION:
URL:https://kaiapoigolfclub.deegeedee.com/event/thursday-club-shotgun-start-6/2028-02-17/
LOCATION:Kaiapoi Golf Club\, 373 Williams St\, Kaiapoi\, 7630\, New Zealand
END:VEVENT
BEGIN:VEVENT
DTSTART;TZID=Pacific/Auckland:20280210T090000
DTEND;TZID=Pacific/Auckland:20280210T130000
DTSTAMP:20260421T235541
CREATED:20200929T093011Z
LAST-MODIFIED:20200929T093011Z
UID:84973-1833786000-1833800400@kaiapoigolfclub.deegeedee.com
SUMMARY:Thursday Club Shotgun Start
DESCRIPTION:
URL:https://kaiapoigolfclub.deegeedee.com/event/thursday-club-shotgun-start-6/2028-02-10/
LOCATION:Kaiapoi Golf Club\, 373 Williams St\, Kaiapoi\, 7630\, New Zealand
END:VEVENT
BEGIN:VEVENT
DTSTART;TZID=Pacific/Auckland:20280203T090000
DTEND;TZID=Pacific/Auckland:20280203T130000
DTSTAMP:20260421T235541
CREATED:20200929T093011Z
LAST-MODIFIED:20200929T093011Z
UID:84972-1833181200-1833195600@kaiapoigolfclub.deegeedee.com
SUMMARY:Thursday Club Shotgun Start
DESCRIPTION:
URL:https://kaiapoigolfclub.deegeedee.com/event/thursday-club-shotgun-start-6/2028-02-03/
LOCATION:Kaiapoi Golf Club\, 373 Williams St\, Kaiapoi\, 7630\, New Zealand
END:VEVENT
BEGIN:VEVENT
DTSTART;TZID=Pacific/Auckland:20280127T090000
DTEND;TZID=Pacific/Auckland:20280127T130000
DTSTAMP:20260421T235541
CREATED:20200929T093011Z
LAST-MODIFIED:20200929T093011Z
UID:84971-1832576400-1832590800@kaiapoigolfclub.deegeedee.com
SUMMARY:Thursday Club Shotgun Start
DESCRIPTION:
URL:https://kaiapoigolfclub.deegeedee.com/event/thursday-club-shotgun-start-6/2028-01-27/
LOCATION:Kaiapoi Golf Club\, 373 Williams St\, Kaiapoi\, 7630\, New Zealand
END:VEVENT
BEGIN:VEVENT
DTSTART;TZID=Pacific/Auckland:20280120T090000
DTEND;TZID=Pacific/Auckland:20280120T130000
DTSTAMP:20260421T235541
CREATED:20200929T093011Z
LAST-MODIFIED:20200929T093011Z
UID:84970-1831971600-1831986000@kaiapoigolfclub.deegeedee.com
SUMMARY:Thursday Club Shotgun Start
DESCRIPTION:
URL:https://kaiapoigolfclub.deegeedee.com/event/thursday-club-shotgun-start-6/2028-01-20/
LOCATION:Kaiapoi Golf Club\, 373 Williams St\, Kaiapoi\, 7630\, New Zealand
END:VEVENT
BEGIN:VEVENT
DTSTART;TZID=Pacific/Auckland:20280113T090000
DTEND;TZID=Pacific/Auckland:20280113T130000
DTSTAMP:20260421T235541
CREATED:20200929T093011Z
LAST-MODIFIED:20200929T093011Z
UID:84969-1831366800-1831381200@kaiapoigolfclub.deegeedee.com
SUMMARY:Thursday Club Shotgun Start
DESCRIPTION:
URL:https://kaiapoigolfclub.deegeedee.com/event/thursday-club-shotgun-start-6/2028-01-13/
LOCATION:Kaiapoi Golf Club\, 373 Williams St\, Kaiapoi\, 7630\, New Zealand
END:VEVENT
BEGIN:VEVENT
DTSTART;TZID=Pacific/Auckland:20280106T090000
DTEND;TZID=Pacific/Auckland:20280106T130000
DTSTAMP:20260421T235541
CREATED:20200929T093011Z
LAST-MODIFIED:20200929T093011Z
UID:84968-1830762000-1830776400@kaiapoigolfclub.deegeedee.com
SUMMARY:Thursday Club Shotgun Start
DESCRIPTION:
URL:https://kaiapoigolfclub.deegeedee.com/event/thursday-club-shotgun-start-6/2028-01-06/
LOCATION:Kaiapoi Golf Club\, 373 Williams St\, Kaiapoi\, 7630\, New Zealand
END:VEVENT
BEGIN:VEVENT
DTSTART;TZID=Pacific/Auckland:20271230T090000
DTEND;TZID=Pacific/Auckland:20271230T130000
DTSTAMP:20260421T235541
CREATED:20200929T093011Z
LAST-MODIFIED:20200929T093011Z
UID:84967-1830157200-1830171600@kaiapoigolfclub.deegeedee.com
SUMMARY:Thursday Club Shotgun Start
DESCRIPTION:
URL:https://kaiapoigolfclub.deegeedee.com/event/thursday-club-shotgun-start-6/2027-12-30/
LOCATION:Kaiapoi Golf Club\, 373 Williams St\, Kaiapoi\, 7630\, New Zealand
END:VEVENT
BEGIN:VEVENT
DTSTART;TZID=Pacific/Auckland:20271223T090000
DTEND;TZID=Pacific/Auckland:20271223T130000
DTSTAMP:20260421T235541
CREATED:20200929T093011Z
LAST-MODIFIED:20200929T093011Z
UID:84966-1829552400-1829566800@kaiapoigolfclub.deegeedee.com
SUMMARY:Thursday Club Shotgun Start
DESCRIPTION:
URL:https://kaiapoigolfclub.deegeedee.com/event/thursday-club-shotgun-start-6/2027-12-23/
LOCATION:Kaiapoi Golf Club\, 373 Williams St\, Kaiapoi\, 7630\, New Zealand
END:VEVENT
BEGIN:VEVENT
DTSTART;TZID=Pacific/Auckland:20271216T090000
DTEND;TZID=Pacific/Auckland:20271216T130000
DTSTAMP:20260421T235541
CREATED:20200929T093011Z
LAST-MODIFIED:20200929T093011Z
UID:84965-1828947600-1828962000@kaiapoigolfclub.deegeedee.com
SUMMARY:Thursday Club Shotgun Start
DESCRIPTION:
URL:https://kaiapoigolfclub.deegeedee.com/event/thursday-club-shotgun-start-6/2027-12-16/
LOCATION:Kaiapoi Golf Club\, 373 Williams St\, Kaiapoi\, 7630\, New Zealand
END:VEVENT
BEGIN:VEVENT
DTSTART;TZID=Pacific/Auckland:20271209T090000
DTEND;TZID=Pacific/Auckland:20271209T130000
DTSTAMP:20260421T235541
CREATED:20200929T093011Z
LAST-MODIFIED:20200929T093011Z
UID:84964-1828342800-1828357200@kaiapoigolfclub.deegeedee.com
SUMMARY:Thursday Club Shotgun Start
DESCRIPTION:
URL:https://kaiapoigolfclub.deegeedee.com/event/thursday-club-shotgun-start-6/2027-12-09/
LOCATION:Kaiapoi Golf Club\, 373 Williams St\, Kaiapoi\, 7630\, New Zealand
END:VEVENT
BEGIN:VEVENT
DTSTART;TZID=Pacific/Auckland:20271202T090000
DTEND;TZID=Pacific/Auckland:20271202T130000
DTSTAMP:20260421T235541
CREATED:20200929T093011Z
LAST-MODIFIED:20200929T093011Z
UID:84963-1827738000-1827752400@kaiapoigolfclub.deegeedee.com
SUMMARY:Thursday Club Shotgun Start
DESCRIPTION:
URL:https://kaiapoigolfclub.deegeedee.com/event/thursday-club-shotgun-start-6/2027-12-02/
LOCATION:Kaiapoi Golf Club\, 373 Williams St\, Kaiapoi\, 7630\, New Zealand
END:VEVENT
BEGIN:VEVENT
DTSTART;TZID=Pacific/Auckland:20271125T090000
DTEND;TZID=Pacific/Auckland:20271125T130000
DTSTAMP:20260421T235541
CREATED:20200929T093011Z
LAST-MODIFIED:20200929T093011Z
UID:84962-1827133200-1827147600@kaiapoigolfclub.deegeedee.com
SUMMARY:Thursday Club Shotgun Start
DESCRIPTION:
URL:https://kaiapoigolfclub.deegeedee.com/event/thursday-club-shotgun-start-6/2027-11-25/
LOCATION:Kaiapoi Golf Club\, 373 Williams St\, Kaiapoi\, 7630\, New Zealand
END:VEVENT
BEGIN:VEVENT
DTSTART;TZID=Pacific/Auckland:20271118T090000
DTEND;TZID=Pacific/Auckland:20271118T130000
DTSTAMP:20260421T235541
CREATED:20200929T093011Z
LAST-MODIFIED:20200929T093011Z
UID:84961-1826528400-1826542800@kaiapoigolfclub.deegeedee.com
SUMMARY:Thursday Club Shotgun Start
DESCRIPTION:
URL:https://kaiapoigolfclub.deegeedee.com/event/thursday-club-shotgun-start-6/2027-11-18/
LOCATION:Kaiapoi Golf Club\, 373 Williams St\, Kaiapoi\, 7630\, New Zealand
END:VEVENT
BEGIN:VEVENT
DTSTART;TZID=Pacific/Auckland:20271111T090000
DTEND;TZID=Pacific/Auckland:20271111T130000
DTSTAMP:20260421T235541
CREATED:20200929T093011Z
LAST-MODIFIED:20200929T093011Z
UID:84960-1825923600-1825938000@kaiapoigolfclub.deegeedee.com
SUMMARY:Thursday Club Shotgun Start
DESCRIPTION:
URL:https://kaiapoigolfclub.deegeedee.com/event/thursday-club-shotgun-start-6/2027-11-11/
LOCATION:Kaiapoi Golf Club\, 373 Williams St\, Kaiapoi\, 7630\, New Zealand
END:VEVENT
BEGIN:VEVENT
DTSTART;TZID=Pacific/Auckland:20271104T090000
DTEND;TZID=Pacific/Auckland:20271104T130000
DTSTAMP:20260421T235541
CREATED:20200929T093011Z
LAST-MODIFIED:20200929T093011Z
UID:84959-1825318800-1825333200@kaiapoigolfclub.deegeedee.com
SUMMARY:Thursday Club Shotgun Start
DESCRIPTION:
URL:https://kaiapoigolfclub.deegeedee.com/event/thursday-club-shotgun-start-6/2027-11-04/
LOCATION:Kaiapoi Golf Club\, 373 Williams St\, Kaiapoi\, 7630\, New Zealand
END:VEVENT
BEGIN:VEVENT
DTSTART;TZID=Pacific/Auckland:20271028T090000
DTEND;TZID=Pacific/Auckland:20271028T130000
DTSTAMP:20260421T235541
CREATED:20200929T093011Z
LAST-MODIFIED:20200929T093011Z
UID:84958-1824714000-1824728400@kaiapoigolfclub.deegeedee.com
SUMMARY:Thursday Club Shotgun Start
DESCRIPTION:
URL:https://kaiapoigolfclub.deegeedee.com/event/thursday-club-shotgun-start-6/2027-10-28/
LOCATION:Kaiapoi Golf Club\, 373 Williams St\, Kaiapoi\, 7630\, New Zealand
END:VEVENT
BEGIN:VEVENT
DTSTART;TZID=Pacific/Auckland:20271021T090000
DTEND;TZID=Pacific/Auckland:20271021T130000
DTSTAMP:20260421T235541
CREATED:20200929T093011Z
LAST-MODIFIED:20200929T093011Z
UID:84957-1824109200-1824123600@kaiapoigolfclub.deegeedee.com
SUMMARY:Thursday Club Shotgun Start
DESCRIPTION:
URL:https://kaiapoigolfclub.deegeedee.com/event/thursday-club-shotgun-start-6/2027-10-21/
LOCATION:Kaiapoi Golf Club\, 373 Williams St\, Kaiapoi\, 7630\, New Zealand
END:VEVENT
BEGIN:VEVENT
DTSTART;TZID=Pacific/Auckland:20271014T090000
DTEND;TZID=Pacific/Auckland:20271014T130000
DTSTAMP:20260421T235541
CREATED:20200929T093011Z
LAST-MODIFIED:20200929T093011Z
UID:84956-1823504400-1823518800@kaiapoigolfclub.deegeedee.com
SUMMARY:Thursday Club Shotgun Start
DESCRIPTION:
URL:https://kaiapoigolfclub.deegeedee.com/event/thursday-club-shotgun-start-6/2027-10-14/
LOCATION:Kaiapoi Golf Club\, 373 Williams St\, Kaiapoi\, 7630\, New Zealand
END:VEVENT
BEGIN:VEVENT
DTSTART;TZID=Pacific/Auckland:20271007T090000
DTEND;TZID=Pacific/Auckland:20271007T130000
DTSTAMP:20260421T235541
CREATED:20200929T093011Z
LAST-MODIFIED:20200929T093011Z
UID:84955-1822899600-1822914000@kaiapoigolfclub.deegeedee.com
SUMMARY:Thursday Club Shotgun Start
DESCRIPTION:
URL:https://kaiapoigolfclub.deegeedee.com/event/thursday-club-shotgun-start-6/2027-10-07/
LOCATION:Kaiapoi Golf Club\, 373 Williams St\, Kaiapoi\, 7630\, New Zealand
END:VEVENT
BEGIN:VEVENT
DTSTART;TZID=Pacific/Auckland:20270930T090000
DTEND;TZID=Pacific/Auckland:20270930T130000
DTSTAMP:20260421T235541
CREATED:20200929T093011Z
LAST-MODIFIED:20200929T093011Z
UID:84954-1822294800-1822309200@kaiapoigolfclub.deegeedee.com
SUMMARY:Thursday Club Shotgun Start
DESCRIPTION:
URL:https://kaiapoigolfclub.deegeedee.com/event/thursday-club-shotgun-start-6/2027-09-30/
LOCATION:Kaiapoi Golf Club\, 373 Williams St\, Kaiapoi\, 7630\, New Zealand
END:VEVENT
END:VCALENDAR