BEGIN:VCALENDAR
VERSION:2.0
PRODID:-//The Kaiapoi Golf Club - ECPv5.2.1//NONSGML v1.0//EN
CALSCALE:GREGORIAN
METHOD:PUBLISH
X-WR-CALNAME:The Kaiapoi Golf Club
X-ORIGINAL-URL:https://kaiapoigolfclub.deegeedee.com
X-WR-CALDESC:Events for The Kaiapoi Golf Club
BEGIN:VTIMEZONE
TZID:Pacific/Auckland
BEGIN:STANDARD
TZOFFSETFROM:+1300
TZOFFSETTO:+1200
TZNAME:NZST
DTSTART:20260404T140000
END:STANDARD
BEGIN:DAYLIGHT
TZOFFSETFROM:+1200
TZOFFSETTO:+1300
TZNAME:NZDT
DTSTART:20260926T140000
END:DAYLIGHT
END:VTIMEZONE
BEGIN:VEVENT
DTSTART;TZID=Pacific/Auckland:20260604T090000
DTEND;TZID=Pacific/Auckland:20260604T130000
DTSTAMP:20260422T012725
CREATED:20200929T093011Z
LAST-MODIFIED:20200929T093011Z
UID:84885-1780563600-1780578000@kaiapoigolfclub.deegeedee.com
SUMMARY:Thursday Club Shotgun Start
DESCRIPTION:
URL:https://kaiapoigolfclub.deegeedee.com/event/thursday-club-shotgun-start-6/2026-06-04/
LOCATION:Kaiapoi Golf Club\, 373 Williams St\, Kaiapoi\, 7630\, New Zealand
END:VEVENT
BEGIN:VEVENT
DTSTART;TZID=Pacific/Auckland:20260611T090000
DTEND;TZID=Pacific/Auckland:20260611T130000
DTSTAMP:20260422T012725
CREATED:20200929T093011Z
LAST-MODIFIED:20200929T093011Z
UID:84886-1781168400-1781182800@kaiapoigolfclub.deegeedee.com
SUMMARY:Thursday Club Shotgun Start
DESCRIPTION:
URL:https://kaiapoigolfclub.deegeedee.com/event/thursday-club-shotgun-start-6/2026-06-11/
LOCATION:Kaiapoi Golf Club\, 373 Williams St\, Kaiapoi\, 7630\, New Zealand
END:VEVENT
BEGIN:VEVENT
DTSTART;TZID=Pacific/Auckland:20260618T090000
DTEND;TZID=Pacific/Auckland:20260618T130000
DTSTAMP:20260422T012725
CREATED:20200929T093011Z
LAST-MODIFIED:20200929T093011Z
UID:84887-1781773200-1781787600@kaiapoigolfclub.deegeedee.com
SUMMARY:Thursday Club Shotgun Start
DESCRIPTION:
URL:https://kaiapoigolfclub.deegeedee.com/event/thursday-club-shotgun-start-6/2026-06-18/
LOCATION:Kaiapoi Golf Club\, 373 Williams St\, Kaiapoi\, 7630\, New Zealand
END:VEVENT
BEGIN:VEVENT
DTSTART;TZID=Pacific/Auckland:20260625T090000
DTEND;TZID=Pacific/Auckland:20260625T130000
DTSTAMP:20260422T012725
CREATED:20200929T093011Z
LAST-MODIFIED:20200929T093011Z
UID:84888-1782378000-1782392400@kaiapoigolfclub.deegeedee.com
SUMMARY:Thursday Club Shotgun Start
DESCRIPTION:
URL:https://kaiapoigolfclub.deegeedee.com/event/thursday-club-shotgun-start-6/2026-06-25/
LOCATION:Kaiapoi Golf Club\, 373 Williams St\, Kaiapoi\, 7630\, New Zealand
END:VEVENT
BEGIN:VEVENT
DTSTART;TZID=Pacific/Auckland:20260702T090000
DTEND;TZID=Pacific/Auckland:20260702T130000
DTSTAMP:20260422T012725
CREATED:20200929T093011Z
LAST-MODIFIED:20200929T093011Z
UID:84889-1782982800-1782997200@kaiapoigolfclub.deegeedee.com
SUMMARY:Thursday Club Shotgun Start
DESCRIPTION:
URL:https://kaiapoigolfclub.deegeedee.com/event/thursday-club-shotgun-start-6/2026-07-02/
LOCATION:Kaiapoi Golf Club\, 373 Williams St\, Kaiapoi\, 7630\, New Zealand
END:VEVENT
END:VCALENDAR