BEGIN:VCALENDAR
VERSION:2.0
PRODID:-//The Kaiapoi Golf Club - ECPv5.2.1//NONSGML v1.0//EN
CALSCALE:GREGORIAN
METHOD:PUBLISH
X-WR-CALNAME:The Kaiapoi Golf Club
X-ORIGINAL-URL:https://kaiapoigolfclub.deegeedee.com
X-WR-CALDESC:Events for The Kaiapoi Golf Club
BEGIN:VTIMEZONE
TZID:Pacific/Auckland
BEGIN:STANDARD
TZOFFSETFROM:+1300
TZOFFSETTO:+1200
TZNAME:NZST
DTSTART:20260404T140000
END:STANDARD
BEGIN:DAYLIGHT
TZOFFSETFROM:+1200
TZOFFSETTO:+1300
TZNAME:NZDT
DTSTART:20260926T140000
END:DAYLIGHT
END:VTIMEZONE
BEGIN:VEVENT
DTSTART;TZID=Pacific/Auckland:20260402T090000
DTEND;TZID=Pacific/Auckland:20260402T130000
DTSTAMP:20260421T222115
CREATED:20200929T093011Z
LAST-MODIFIED:20200929T093011Z
UID:84876-1775120400-1775134800@kaiapoigolfclub.deegeedee.com
SUMMARY:Thursday Club Shotgun Start
DESCRIPTION:
URL:https://kaiapoigolfclub.deegeedee.com/event/thursday-club-shotgun-start-6/2026-04-02/
LOCATION:Kaiapoi Golf Club\, 373 Williams St\, Kaiapoi\, 7630\, New Zealand
END:VEVENT
BEGIN:VEVENT
DTSTART;TZID=Pacific/Auckland:20260409T090000
DTEND;TZID=Pacific/Auckland:20260409T130000
DTSTAMP:20260421T222115
CREATED:20200929T093011Z
LAST-MODIFIED:20200929T093011Z
UID:84877-1775725200-1775739600@kaiapoigolfclub.deegeedee.com
SUMMARY:Thursday Club Shotgun Start
DESCRIPTION:
URL:https://kaiapoigolfclub.deegeedee.com/event/thursday-club-shotgun-start-6/2026-04-09/
LOCATION:Kaiapoi Golf Club\, 373 Williams St\, Kaiapoi\, 7630\, New Zealand
END:VEVENT
BEGIN:VEVENT
DTSTART;TZID=Pacific/Auckland:20260416T090000
DTEND;TZID=Pacific/Auckland:20260416T130000
DTSTAMP:20260421T222115
CREATED:20200929T093011Z
LAST-MODIFIED:20200929T093011Z
UID:84878-1776330000-1776344400@kaiapoigolfclub.deegeedee.com
SUMMARY:Thursday Club Shotgun Start
DESCRIPTION:
URL:https://kaiapoigolfclub.deegeedee.com/event/thursday-club-shotgun-start-6/2026-04-16/
LOCATION:Kaiapoi Golf Club\, 373 Williams St\, Kaiapoi\, 7630\, New Zealand
END:VEVENT
BEGIN:VEVENT
DTSTART;TZID=Pacific/Auckland:20260423T090000
DTEND;TZID=Pacific/Auckland:20260423T130000
DTSTAMP:20260421T222115
CREATED:20200929T093011Z
LAST-MODIFIED:20200929T093011Z
UID:84879-1776934800-1776949200@kaiapoigolfclub.deegeedee.com
SUMMARY:Thursday Club Shotgun Start
DESCRIPTION:
URL:https://kaiapoigolfclub.deegeedee.com/event/thursday-club-shotgun-start-6/2026-04-23/
LOCATION:Kaiapoi Golf Club\, 373 Williams St\, Kaiapoi\, 7630\, New Zealand
END:VEVENT
BEGIN:VEVENT
DTSTART;TZID=Pacific/Auckland:20260430T090000
DTEND;TZID=Pacific/Auckland:20260430T130000
DTSTAMP:20260421T222115
CREATED:20200929T093011Z
LAST-MODIFIED:20200929T093011Z
UID:84880-1777539600-1777554000@kaiapoigolfclub.deegeedee.com
SUMMARY:Thursday Club Shotgun Start
DESCRIPTION:
URL:https://kaiapoigolfclub.deegeedee.com/event/thursday-club-shotgun-start-6/2026-04-30/
LOCATION:Kaiapoi Golf Club\, 373 Williams St\, Kaiapoi\, 7630\, New Zealand
END:VEVENT
END:VCALENDAR