BEGIN:VCALENDAR
VERSION:2.0
PRODID:-//The Kaiapoi Golf Club - ECPv5.2.1//NONSGML v1.0//EN
CALSCALE:GREGORIAN
METHOD:PUBLISH
X-WR-CALNAME:The Kaiapoi Golf Club
X-ORIGINAL-URL:https://kaiapoigolfclub.deegeedee.com
X-WR-CALDESC:Events for The Kaiapoi Golf Club
BEGIN:VTIMEZONE
TZID:Pacific/Auckland
BEGIN:STANDARD
TZOFFSETFROM:+1300
TZOFFSETTO:+1200
TZNAME:NZST
DTSTART:20270403T140000
END:STANDARD
BEGIN:DAYLIGHT
TZOFFSETFROM:+1200
TZOFFSETTO:+1300
TZNAME:NZDT
DTSTART:20270925T140000
END:DAYLIGHT
END:VTIMEZONE
BEGIN:VEVENT
DTSTART;TZID=Pacific/Auckland:20270513T090000
DTEND;TZID=Pacific/Auckland:20270513T130000
DTSTAMP:20260422T113854
CREATED:20200929T093011Z
LAST-MODIFIED:20200929T093011Z
UID:84934-1810198800-1810213200@kaiapoigolfclub.deegeedee.com
SUMMARY:Thursday Club Shotgun Start
DESCRIPTION:
URL:https://kaiapoigolfclub.deegeedee.com/event/thursday-club-shotgun-start-6/2027-05-13/
LOCATION:Kaiapoi Golf Club\, 373 Williams St\, Kaiapoi\, 7630\, New Zealand
END:VEVENT
END:VCALENDAR