BEGIN:VCALENDAR
VERSION:2.0
PRODID:-//The Kaiapoi Golf Club - ECPv5.2.1//NONSGML v1.0//EN
CALSCALE:GREGORIAN
METHOD:PUBLISH
X-WR-CALNAME:The Kaiapoi Golf Club
X-ORIGINAL-URL:https://kaiapoigolfclub.deegeedee.com
X-WR-CALDESC:Events for The Kaiapoi Golf Club
BEGIN:VTIMEZONE
TZID:Pacific/Auckland
BEGIN:STANDARD
TZOFFSETFROM:+1300
TZOFFSETTO:+1200
TZNAME:NZST
DTSTART:20200404T140000
END:STANDARD
BEGIN:DAYLIGHT
TZOFFSETFROM:+1200
TZOFFSETTO:+1300
TZNAME:NZDT
DTSTART:20200926T140000
END:DAYLIGHT
END:VTIMEZONE
BEGIN:VEVENT
DTSTART;TZID=Pacific/Auckland:20200731T080000
DTEND;TZID=Pacific/Auckland:20200731T170000
DTSTAMP:20260422T063058
CREATED:20200730T235517Z
LAST-MODIFIED:20200730T235517Z
UID:83162-1596182400-1596214800@kaiapoigolfclub.deegeedee.com
SUMMARY:test event
DESCRIPTION:
URL:https://kaiapoigolfclub.deegeedee.com/event/test-event/
END:VEVENT
END:VCALENDAR