BEGIN:VCALENDAR
VERSION:2.0
PRODID:-//The Kaiapoi Golf Club - ECPv5.2.1//NONSGML v1.0//EN
CALSCALE:GREGORIAN
METHOD:PUBLISH
X-WR-CALNAME:The Kaiapoi Golf Club
X-ORIGINAL-URL:https://kaiapoigolfclub.deegeedee.com
X-WR-CALDESC:Events for The Kaiapoi Golf Club
BEGIN:VTIMEZONE
TZID:Pacific/Auckland
BEGIN:STANDARD
TZOFFSETFROM:+1300
TZOFFSETTO:+1200
TZNAME:NZST
DTSTART:20200404T140000
END:STANDARD
BEGIN:DAYLIGHT
TZOFFSETFROM:+1200
TZOFFSETTO:+1300
TZNAME:NZDT
DTSTART:20200926T140000
END:DAYLIGHT
END:VTIMEZONE
BEGIN:VEVENT
DTSTART;TZID=Pacific/Auckland:20201125T120000
DTEND;TZID=Pacific/Auckland:20201125T160000
DTSTAMP:20260422T215918
CREATED:20200929T104133Z
LAST-MODIFIED:20201014T042043Z
UID:84087-1606305600-1606320000@kaiapoigolfclub.deegeedee.com
SUMMARY:Tasteful Affairs Sponsored Tournament - Course closed 12-4pm.
DESCRIPTION:12 Noon Shotgun Start
URL:https://kaiapoigolfclub.deegeedee.com/event/tasteful-affairs-sponsored-tournament-2/
LOCATION:Kaiapoi Golf Club\, 373 Williams St\, Kaiapoi\, 7630\, New Zealand
END:VEVENT
END:VCALENDAR