BEGIN:VCALENDAR
VERSION:2.0
PRODID:-//The Kaiapoi Golf Club - ECPv5.2.1//NONSGML v1.0//EN
CALSCALE:GREGORIAN
METHOD:PUBLISH
X-WR-CALNAME:The Kaiapoi Golf Club
X-ORIGINAL-URL:https://kaiapoigolfclub.deegeedee.com
X-WR-CALDESC:Events for The Kaiapoi Golf Club
BEGIN:VTIMEZONE
TZID:Pacific/Auckland
BEGIN:STANDARD
TZOFFSETFROM:+1300
TZOFFSETTO:+1200
TZNAME:NZST
DTSTART:20200404T140000
END:STANDARD
BEGIN:DAYLIGHT
TZOFFSETFROM:+1200
TZOFFSETTO:+1300
TZNAME:NZDT
DTSTART:20200926T140000
END:DAYLIGHT
END:VTIMEZONE
BEGIN:VEVENT
DTSTART;TZID=Pacific/Auckland:20201213T093000
DTEND;TZID=Pacific/Auckland:20201213T101500
DTSTAMP:20260422T202625
CREATED:20201110T200921Z
LAST-MODIFIED:20201110T200921Z
UID:84662-1607851800-1607854500@kaiapoigolfclub.deegeedee.com
SUMMARY:Ron Adams Group - 25 Players off 17\, 18 & 1 - #1 tee closed 9.30-10.15am
DESCRIPTION:
URL:https://kaiapoigolfclub.deegeedee.com/event/ron-adams-group-25-players-off-17-18-1-1-tee-closed-9-30-10-15am/
END:VEVENT
END:VCALENDAR