BEGIN:VCALENDAR
VERSION:2.0
PRODID:-//The Kaiapoi Golf Club - ECPv5.2.1//NONSGML v1.0//EN
CALSCALE:GREGORIAN
METHOD:PUBLISH
X-WR-CALNAME:The Kaiapoi Golf Club
X-ORIGINAL-URL:https://kaiapoigolfclub.deegeedee.com
X-WR-CALDESC:Events for The Kaiapoi Golf Club
BEGIN:VTIMEZONE
TZID:Pacific/Auckland
BEGIN:STANDARD
TZOFFSETFROM:+1300
TZOFFSETTO:+1200
TZNAME:NZST
DTSTART:20200404T140000
END:STANDARD
BEGIN:DAYLIGHT
TZOFFSETFROM:+1200
TZOFFSETTO:+1300
TZNAME:NZDT
DTSTART:20200926T140000
END:DAYLIGHT
END:VTIMEZONE
BEGIN:VEVENT
DTSTART;TZID=Pacific/Auckland:20201122T093000
DTEND;TZID=Pacific/Auckland:20201122T100000
DTSTAMP:20260422T220131
CREATED:20201014T043259Z
LAST-MODIFIED:20201014T043411Z
UID:84371-1606037400-1606039200@kaiapoigolfclub.deegeedee.com
SUMMARY:Rangiora RSA Golf Section - 9.30-10am tees 1 & 10 closed for 30mins\, course otherwise open.
DESCRIPTION:
URL:https://kaiapoigolfclub.deegeedee.com/event/rangiora-rsa-golf-section-9-30-10am-tees-1-10-closed-for-30mins/
END:VEVENT
END:VCALENDAR