BEGIN:VCALENDAR
VERSION:2.0
PRODID:-//The Kaiapoi Golf Club - ECPv5.2.1//NONSGML v1.0//EN
CALSCALE:GREGORIAN
METHOD:PUBLISH
X-WR-CALNAME:The Kaiapoi Golf Club
X-ORIGINAL-URL:https://kaiapoigolfclub.deegeedee.com
X-WR-CALDESC:Events for The Kaiapoi Golf Club
BEGIN:VTIMEZONE
TZID:Pacific/Auckland
BEGIN:STANDARD
TZOFFSETFROM:+1300
TZOFFSETTO:+1200
TZNAME:NZST
DTSTART:20200404T140000
END:STANDARD
BEGIN:DAYLIGHT
TZOFFSETFROM:+1200
TZOFFSETTO:+1300
TZNAME:NZDT
DTSTART:20200926T140000
END:DAYLIGHT
END:VTIMEZONE
BEGIN:VEVENT
DTSTART;TZID=Pacific/Auckland:20201024T110000
DTEND;TZID=Pacific/Auckland:20201024T150000
DTSTAMP:20260423T011922
CREATED:20200929T094058Z
LAST-MODIFIED:20201014T040533Z
UID:84043-1603537200-1603551600@kaiapoigolfclub.deegeedee.com
SUMMARY:Labour Weekend Mixed Teams Event - 11am Shotgun Start - Course closed until 3pm.
DESCRIPTION:
URL:https://kaiapoigolfclub.deegeedee.com/event/labour-weekend-mixed-teams-event-11am-shotgun-start/
LOCATION:Kaiapoi Golf Club\, 373 Williams St\, Kaiapoi\, 7630\, New Zealand
END:VEVENT
END:VCALENDAR