BEGIN:VCALENDAR
VERSION:2.0
PRODID:-//The Kaiapoi Golf Club - ECPv5.2.1//NONSGML v1.0//EN
CALSCALE:GREGORIAN
METHOD:PUBLISH
X-WR-CALNAME:The Kaiapoi Golf Club
X-ORIGINAL-URL:https://kaiapoigolfclub.deegeedee.com
X-WR-CALDESC:Events for The Kaiapoi Golf Club
BEGIN:VTIMEZONE
TZID:Pacific/Auckland
BEGIN:STANDARD
TZOFFSETFROM:+1300
TZOFFSETTO:+1200
TZNAME:NZST
DTSTART:20200404T140000
END:STANDARD
BEGIN:DAYLIGHT
TZOFFSETFROM:+1200
TZOFFSETTO:+1300
TZNAME:NZDT
DTSTART:20200926T140000
END:DAYLIGHT
END:VTIMEZONE
BEGIN:VEVENT
DTSTART;TZID=Pacific/Auckland:20200817T070000
DTEND;TZID=Pacific/Auckland:20200817T140000
DTSTAMP:20260422T063218
CREATED:20200731T210457Z
LAST-MODIFIED:20200731T210457Z
UID:83269-1597647600-1597672800@kaiapoigolfclub.deegeedee.com
SUMMARY:Kaiapoi 9 Hole Tournament Course Closed until 2pm
DESCRIPTION:
URL:https://kaiapoigolfclub.deegeedee.com/event/kaiapoi-9-hole-tournament-course-closed-until-2pm/
LOCATION:Kaiapoi Golf Club\, 373 Williams St\, Kaiapoi\, 7630\, New Zealand
END:VEVENT
END:VCALENDAR