BEGIN:VCALENDAR
VERSION:2.0
PRODID:-//The Kaiapoi Golf Club - ECPv5.2.1//NONSGML v1.0//EN
CALSCALE:GREGORIAN
METHOD:PUBLISH
X-WR-CALNAME:The Kaiapoi Golf Club
X-ORIGINAL-URL:https://kaiapoigolfclub.deegeedee.com
X-WR-CALDESC:Events for The Kaiapoi Golf Club
BEGIN:VTIMEZONE
TZID:Pacific/Auckland
BEGIN:STANDARD
TZOFFSETFROM:+1300
TZOFFSETTO:+1200
TZNAME:NZST
DTSTART:20200404T140000
END:STANDARD
BEGIN:DAYLIGHT
TZOFFSETFROM:+1200
TZOFFSETTO:+1300
TZNAME:NZDT
DTSTART:20200926T140000
END:DAYLIGHT
END:VTIMEZONE
BEGIN:VEVENT
DTSTART;TZID=Pacific/Auckland:20201122T090000
DTEND;TZID=Pacific/Auckland:20201122T093000
DTSTAMP:20260422T202235
CREATED:20201104T213511Z
LAST-MODIFIED:20201105T210534Z
UID:84606-1606035600-1606037400@kaiapoigolfclub.deegeedee.com
SUMMARY:Dave from Mogolabs- 9.00am - tees 1 & 10 closed for 30mins
DESCRIPTION:
URL:https://kaiapoigolfclub.deegeedee.com/event/dave-from-mogolabs-9-00am-tees-1-10-closed-for-30mins/
END:VEVENT
END:VCALENDAR