BEGIN:VCALENDAR
VERSION:2.0
PRODID:-//The Kaiapoi Golf Club - ECPv5.2.1//NONSGML v1.0//EN
CALSCALE:GREGORIAN
METHOD:PUBLISH
X-WR-CALNAME:The Kaiapoi Golf Club
X-ORIGINAL-URL:https://kaiapoigolfclub.deegeedee.com
X-WR-CALDESC:Events for The Kaiapoi Golf Club
BEGIN:VTIMEZONE
TZID:Pacific/Auckland
BEGIN:STANDARD
TZOFFSETFROM:+1300
TZOFFSETTO:+1200
TZNAME:NZST
DTSTART:20200404T140000
END:STANDARD
BEGIN:DAYLIGHT
TZOFFSETFROM:+1200
TZOFFSETTO:+1300
TZNAME:NZDT
DTSTART:20200926T140000
END:DAYLIGHT
END:VTIMEZONE
BEGIN:VEVENT
DTSTART;TZID=Pacific/Auckland:20201214T083000
DTEND;TZID=Pacific/Auckland:20201214T090000
DTSTAMP:20260422T202158
CREATED:20200929T111833Z
LAST-MODIFIED:20201014T044725Z
UID:84115-1607934600-1607936400@kaiapoigolfclub.deegeedee.com
SUMMARY:Chch Taxi Golf Club\, 20-30 players - 8.30-9.00am starting on tees 1\, 2 & 4 - otherwise course open.
DESCRIPTION:
URL:https://kaiapoigolfclub.deegeedee.com/event/chch-taxi-golf-club/
LOCATION:Kaiapoi Golf Club\, 373 Williams St\, Kaiapoi\, 7630\, New Zealand
END:VEVENT
END:VCALENDAR