BEGIN:VCALENDAR
VERSION:2.0
PRODID:-//The Kaiapoi Golf Club - ECPv5.2.1//NONSGML v1.0//EN
CALSCALE:GREGORIAN
METHOD:PUBLISH
X-WR-CALNAME:The Kaiapoi Golf Club
X-ORIGINAL-URL:https://kaiapoigolfclub.deegeedee.com
X-WR-CALDESC:Events for The Kaiapoi Golf Club
BEGIN:VTIMEZONE
TZID:Pacific/Auckland
BEGIN:STANDARD
TZOFFSETFROM:+1300
TZOFFSETTO:+1200
TZNAME:NZST
DTSTART:20200404T140000
END:STANDARD
BEGIN:DAYLIGHT
TZOFFSETFROM:+1200
TZOFFSETTO:+1300
TZNAME:NZDT
DTSTART:20200926T140000
END:DAYLIGHT
END:VTIMEZONE
BEGIN:VEVENT
DTSTART;TZID=Pacific/Auckland:20201213T110000
DTEND;TZID=Pacific/Auckland:20201213T114500
DTSTAMP:20260422T202235
CREATED:20200929T111737Z
LAST-MODIFIED:20201014T044546Z
UID:84113-1607857200-1607859900@kaiapoigolfclub.deegeedee.com
SUMMARY:Canterbury Eagles Boys & Girls Trial\, 24 players - #1 tee closed 11-11.45am - otherwise course open.
DESCRIPTION:24 players\n#1 tee closed 11am-11.45am
URL:https://kaiapoigolfclub.deegeedee.com/event/canterbury-eagles-boys-girls-trial/
LOCATION:Kaiapoi Golf Club\, 373 Williams St\, Kaiapoi\, 7630\, New Zealand
END:VEVENT
END:VCALENDAR