BEGIN:VCALENDAR
VERSION:2.0
PRODID:-//The Kaiapoi Golf Club - ECPv5.2.1//NONSGML v1.0//EN
CALSCALE:GREGORIAN
METHOD:PUBLISH
X-WR-CALNAME:The Kaiapoi Golf Club
X-ORIGINAL-URL:https://kaiapoigolfclub.deegeedee.com
X-WR-CALDESC:Events for The Kaiapoi Golf Club
BEGIN:VTIMEZONE
TZID:Pacific/Auckland
BEGIN:STANDARD
TZOFFSETFROM:+1300
TZOFFSETTO:+1200
TZNAME:NZST
DTSTART:20200404T140000
END:STANDARD
BEGIN:DAYLIGHT
TZOFFSETFROM:+1200
TZOFFSETTO:+1300
TZNAME:NZDT
DTSTART:20200926T140000
END:DAYLIGHT
END:VTIMEZONE
BEGIN:VEVENT
DTSTART;TZID=Pacific/Auckland:20201025T110000
DTEND;TZID=Pacific/Auckland:20201025T120000
DTSTAMP:20260423T015935
CREATED:20200929T094429Z
LAST-MODIFIED:20201014T035827Z
UID:84045-1603623600-1603627200@kaiapoigolfclub.deegeedee.com
SUMMARY:Course open all day. ARK Golf at Amberley for Kaiapoi members\, 10.30am tee off
DESCRIPTION:
URL:https://kaiapoigolfclub.deegeedee.com/event/ark-golf-at-amberley-10-30-tee-off/
LOCATION:Kaiapoi Golf Club\, 373 Williams St\, Kaiapoi\, 7630\, New Zealand
END:VEVENT
END:VCALENDAR