BEGIN:VCALENDAR
VERSION:2.0
PRODID:-//The Kaiapoi Golf Club - ECPv5.2.1//NONSGML v1.0//EN
CALSCALE:GREGORIAN
METHOD:PUBLISH
X-WR-CALNAME:The Kaiapoi Golf Club
X-ORIGINAL-URL:https://kaiapoigolfclub.deegeedee.com
X-WR-CALDESC:Events for The Kaiapoi Golf Club
BEGIN:VTIMEZONE
TZID:Pacific/Auckland
BEGIN:STANDARD
TZOFFSETFROM:+1300
TZOFFSETTO:+1200
TZNAME:NZST
DTSTART:20200404T140000
END:STANDARD
BEGIN:DAYLIGHT
TZOFFSETFROM:+1200
TZOFFSETTO:+1300
TZNAME:NZDT
DTSTART:20200926T140000
END:DAYLIGHT
END:VTIMEZONE
BEGIN:VEVENT
DTSTART;TZID=Pacific/Auckland:20201014T100000
DTEND;TZID=Pacific/Auckland:20201014T100000
DTSTAMP:20260422T220315
CREATED:20201003T195515Z
LAST-MODIFIED:20201003T195515Z
UID:84211-1602669600-1602669600@kaiapoigolfclub.deegeedee.com
SUMMARY:Amberley 9 Holers visiting - 12 players off #1 tee 10am
DESCRIPTION:
URL:https://kaiapoigolfclub.deegeedee.com/event/amberley-9-holers-visiting-12-players-off-1-tee-10am/
END:VEVENT
END:VCALENDAR