BEGIN:VCALENDAR
VERSION:2.0
PRODID:-//The Kaiapoi Golf Club - ECPv5.2.1//NONSGML v1.0//EN
CALSCALE:GREGORIAN
METHOD:PUBLISH
X-WR-CALNAME:The Kaiapoi Golf Club
X-ORIGINAL-URL:https://kaiapoigolfclub.deegeedee.com
X-WR-CALDESC:Events for The Kaiapoi Golf Club
BEGIN:VTIMEZONE
TZID:Pacific/Auckland
BEGIN:STANDARD
TZOFFSETFROM:+1300
TZOFFSETTO:+1200
TZNAME:NZST
DTSTART:20200404T140000
END:STANDARD
BEGIN:DAYLIGHT
TZOFFSETFROM:+1200
TZOFFSETTO:+1300
TZNAME:NZDT
DTSTART:20200926T140000
END:DAYLIGHT
END:VTIMEZONE
BEGIN:VEVENT
DTSTART;TZID=Pacific/Auckland:20200929T090000
DTEND;TZID=Pacific/Auckland:20200929T120000
DTSTAMP:20260422T093910
CREATED:20200929T091656Z
LAST-MODIFIED:20200929T091656Z
UID:83931-1601370000-1601380800@kaiapoigolfclub.deegeedee.com
SUMMARY:9 HOLE NETT CUP R1
DESCRIPTION:
URL:https://kaiapoigolfclub.deegeedee.com/event/9-hole-nett-cup-r1/
END:VEVENT
END:VCALENDAR